BEGIN:VCALENDAR
VERSION:2.0
PRODID:-// - ECPv6.15.20//NONSGML v1.0//EN
CALSCALE:GREGORIAN
METHOD:PUBLISH
X-ORIGINAL-URL:http://www.denmark.lib.me.us
X-WR-CALDESC:Events for 
REFRESH-INTERVAL;VALUE=DURATION:PT1H
X-Robots-Tag:noindex
X-PUBLISHED-TTL:PT1H
BEGIN:VTIMEZONE
TZID:America/New_York
BEGIN:DAYLIGHT
TZOFFSETFROM:-0500
TZOFFSETTO:-0400
TZNAME:EDT
DTSTART:20210314T070000
END:DAYLIGHT
BEGIN:STANDARD
TZOFFSETFROM:-0400
TZOFFSETTO:-0500
TZNAME:EST
DTSTART:20211107T060000
END:STANDARD
BEGIN:DAYLIGHT
TZOFFSETFROM:-0500
TZOFFSETTO:-0400
TZNAME:EDT
DTSTART:20220313T070000
END:DAYLIGHT
BEGIN:STANDARD
TZOFFSETFROM:-0400
TZOFFSETTO:-0500
TZNAME:EST
DTSTART:20221106T060000
END:STANDARD
BEGIN:DAYLIGHT
TZOFFSETFROM:-0500
TZOFFSETTO:-0400
TZNAME:EDT
DTSTART:20230312T070000
END:DAYLIGHT
BEGIN:STANDARD
TZOFFSETFROM:-0400
TZOFFSETTO:-0500
TZNAME:EST
DTSTART:20231105T060000
END:STANDARD
END:VTIMEZONE
BEGIN:VEVENT
DTSTART;VALUE=DATE:20220404
DTEND;VALUE=DATE:20220412
DTSTAMP:20260422T082448
CREATED:20220404T120234Z
LAST-MODIFIED:20220404T120312Z
UID:844-1649030400-1649721599@www.denmark.lib.me.us
SUMMARY:Scavenger Hunt
DESCRIPTION:Denmark Library Scavenger Hunt THIS WEEK!! \n\nTo celebrate National Library Week – April 3 -9 – we are exploring libraries in the area. Denmark Library\, along with the other local libraries\, is taking part in the “Connect With Your Library” scavenger hunt.\nThe Libraries in Denmark\, Bridgton\, Fryeburg\, and Charlotte Hobbs in Lovell have joined in creating clues patrons have to find the answers to at each Library.\n\nPick up and drop off completed scavenger cards at any of the libraries for your chance to win the Grand Prize:  A gift basket with maple syrup from Fly Away Farm in Lovell\, and gift cards to the Chocolate House in Bridgton\, Jimbob’s in Denmark\, and Fair Grounds Coffee in Fryeburg. Cards are due by April 11 and the winner will be notified by April 13.\n\nCome\, join the fun and find out about our local libraries!
URL:http://www.denmark.lib.me.us/event-calendar/scavenger-hunt/
END:VEVENT
BEGIN:VEVENT
DTSTART;TZID=America/New_York:20220412T160000
DTEND;TZID=America/New_York:20220412T170000
DTSTAMP:20260422T082448
CREATED:20220317T143612Z
LAST-MODIFIED:20220402T213617Z
UID:755-1649779200-1649782800@www.denmark.lib.me.us
SUMMARY:The Lincoln Highway by Amor Towles
DESCRIPTION:“In June\, 1954\, eighteen-year-old Emmett Watson is driven home to Nebraska by the warden of the work farm where he has just served a year for involuntary manslaughter. His mother is long gone\, his father recently deceased\, and the family farm foreclosed upon by the bank\, Emmett’s intention is to pick up his eight-year-old brother and head west where they can start their lives anew. But when the warden drives away\, Emmett discovers that two friends from the work farm have hidden themselves in the trunk of the warden’s car. Together\, they have hatched an altogether different plan for Emmett’s future. Spanning just ten days and told from multiple points of view\, Towles’s third novel will satisfy fans of his multi-layered literary styling while providing them an array of new and richly imagined settings\, characters\, and themes.” From Goodreads \nhttps://www.goodreads.com/book/show/57109107-the-lincoln-highway?ac=1&from_search=true&qid=VOcxKBLNyj&rank=1
URL:http://www.denmark.lib.me.us/event-calendar/the-lincoln-highway-by-amor-towles/
ATTACH;FMTTYPE=image/jpeg:http://www.denmark.lib.me.us/wp-content/uploads/2022/03/57109107._SY475_.jpg
END:VEVENT
END:VCALENDAR