BEGIN:VCALENDAR
VERSION:2.0
PRODID:-// - ECPv6.15.20//NONSGML v1.0//EN
CALSCALE:GREGORIAN
METHOD:PUBLISH
X-ORIGINAL-URL:https://www.denmark.lib.me.us
X-WR-CALDESC:Events for 
REFRESH-INTERVAL;VALUE=DURATION:PT1H
X-Robots-Tag:noindex
X-PUBLISHED-TTL:PT1H
BEGIN:VTIMEZONE
TZID:America/New_York
BEGIN:DAYLIGHT
TZOFFSETFROM:-0500
TZOFFSETTO:-0400
TZNAME:EDT
DTSTART:20240310T070000
END:DAYLIGHT
BEGIN:STANDARD
TZOFFSETFROM:-0400
TZOFFSETTO:-0500
TZNAME:EST
DTSTART:20241103T060000
END:STANDARD
BEGIN:DAYLIGHT
TZOFFSETFROM:-0500
TZOFFSETTO:-0400
TZNAME:EDT
DTSTART:20250309T070000
END:DAYLIGHT
BEGIN:STANDARD
TZOFFSETFROM:-0400
TZOFFSETTO:-0500
TZNAME:EST
DTSTART:20251102T060000
END:STANDARD
BEGIN:DAYLIGHT
TZOFFSETFROM:-0500
TZOFFSETTO:-0400
TZNAME:EDT
DTSTART:20260308T070000
END:DAYLIGHT
BEGIN:STANDARD
TZOFFSETFROM:-0400
TZOFFSETTO:-0500
TZNAME:EST
DTSTART:20261101T060000
END:STANDARD
END:VTIMEZONE
BEGIN:VEVENT
DTSTART;TZID=America/New_York:20251030T160000
DTEND;TZID=America/New_York:20251030T180000
DTSTAMP:20260423T103727
CREATED:20251024T145617Z
LAST-MODIFIED:20251024T150802Z
UID:2182-1761840000-1761847200@www.denmark.lib.me.us
SUMMARY:Pumpkin Carving!
DESCRIPTION:Create jack-0-lanterns at the library!\nWe’ll be carving pumpkins in our holiday best at the Library on Thursday October 30 from 4-6pm
URL:https://www.denmark.lib.me.us/event-calendar/pumpkin-carving-at-the-library/
LOCATION:Denmark Public Library\, 121 East Main Street\, Denmark\, ME\, 04022\, United States
CATEGORIES:Special Activities
ATTACH;FMTTYPE=image/jpeg:https://www.denmark.lib.me.us/wp-content/uploads/2025/10/97a5763bbd3a55548ab593f07ace56f7-2539756416.jpg
END:VEVENT
END:VCALENDAR