BEGIN:VCALENDAR
VERSION:2.0
PRODID:-// - ECPv6.15.20//NONSGML v1.0//EN
CALSCALE:GREGORIAN
METHOD:PUBLISH
X-ORIGINAL-URL:https://www.denmark.lib.me.us
X-WR-CALDESC:Events for 
REFRESH-INTERVAL;VALUE=DURATION:PT1H
X-Robots-Tag:noindex
X-PUBLISHED-TTL:PT1H
BEGIN:VTIMEZONE
TZID:America/New_York
BEGIN:DAYLIGHT
TZOFFSETFROM:-0500
TZOFFSETTO:-0400
TZNAME:EDT
DTSTART:20240310T070000
END:DAYLIGHT
BEGIN:STANDARD
TZOFFSETFROM:-0400
TZOFFSETTO:-0500
TZNAME:EST
DTSTART:20241103T060000
END:STANDARD
BEGIN:DAYLIGHT
TZOFFSETFROM:-0500
TZOFFSETTO:-0400
TZNAME:EDT
DTSTART:20250309T070000
END:DAYLIGHT
BEGIN:STANDARD
TZOFFSETFROM:-0400
TZOFFSETTO:-0500
TZNAME:EST
DTSTART:20251102T060000
END:STANDARD
BEGIN:DAYLIGHT
TZOFFSETFROM:-0500
TZOFFSETTO:-0400
TZNAME:EDT
DTSTART:20260308T070000
END:DAYLIGHT
BEGIN:STANDARD
TZOFFSETFROM:-0400
TZOFFSETTO:-0500
TZNAME:EST
DTSTART:20261101T060000
END:STANDARD
END:VTIMEZONE
BEGIN:VEVENT
DTSTART;TZID=America/New_York:20251031T170000
DTEND;TZID=America/New_York:20251031T190000
DTSTAMP:20260423T103726
CREATED:20251024T151146Z
LAST-MODIFIED:20251024T151204Z
UID:2188-1761930000-1761937200@www.denmark.lib.me.us
SUMMARY:Halloween party at Denmark Arts Center!
DESCRIPTION:FAMILY FUN DAYS:FAMILY HALLOWEEN PARTY FRIDAY\, OCTOBER 31 5-7PM \nHalloween Friday\, October 31 from 5-7 will be a Family Halloween Party at Denmark Arts Center early evening filled with games\, sweets\, and other delightful treats keeping in the Halloween Spirit. THEN a lit pumpkin walk in Bicentennial Park at 6:30. Much lurks in the PARK after DARK!!
URL:https://www.denmark.lib.me.us/event-calendar/halloween-party-at-denmark-arts-center/
LOCATION:Denmark Arts Center\, 50 West Main St\, Denmark\, ME\, 04022\, United States
CATEGORIES:Special Activities
ATTACH;FMTTYPE=image/jpeg:https://www.denmark.lib.me.us/wp-content/uploads/2025/10/Halloween-costumes-for-kids-creative-DIY-easy-homemade-scaled-171271800.jpeg
END:VEVENT
END:VCALENDAR