BEGIN:VCALENDAR
VERSION:2.0
PRODID:-// - ECPv6.15.20//NONSGML v1.0//EN
CALSCALE:GREGORIAN
METHOD:PUBLISH
X-ORIGINAL-URL:https://www.denmark.lib.me.us
X-WR-CALDESC:Events for 
REFRESH-INTERVAL;VALUE=DURATION:PT1H
X-Robots-Tag:noindex
X-PUBLISHED-TTL:PT1H
BEGIN:VTIMEZONE
TZID:America/New_York
BEGIN:DAYLIGHT
TZOFFSETFROM:-0500
TZOFFSETTO:-0400
TZNAME:EDT
DTSTART:20230312T070000
END:DAYLIGHT
BEGIN:STANDARD
TZOFFSETFROM:-0400
TZOFFSETTO:-0500
TZNAME:EST
DTSTART:20231105T060000
END:STANDARD
BEGIN:DAYLIGHT
TZOFFSETFROM:-0500
TZOFFSETTO:-0400
TZNAME:EDT
DTSTART:20240310T070000
END:DAYLIGHT
BEGIN:STANDARD
TZOFFSETFROM:-0400
TZOFFSETTO:-0500
TZNAME:EST
DTSTART:20241103T060000
END:STANDARD
BEGIN:DAYLIGHT
TZOFFSETFROM:-0500
TZOFFSETTO:-0400
TZNAME:EDT
DTSTART:20250309T070000
END:DAYLIGHT
BEGIN:STANDARD
TZOFFSETFROM:-0400
TZOFFSETTO:-0500
TZNAME:EST
DTSTART:20251102T060000
END:STANDARD
END:VTIMEZONE
BEGIN:VEVENT
DTSTART;TZID=America/New_York:20240202T090000
DTEND;TZID=America/New_York:20240202T110000
DTSTAMP:20260423T042335
CREATED:20231007T190108Z
LAST-MODIFIED:20231007T190108Z
UID:1358-1706864400-1706871600@www.denmark.lib.me.us
SUMMARY:Coffee Cafe
DESCRIPTION:Join others in relaxing conversation and light refreshments on the first Friday of the month 9-11.
URL:https://www.denmark.lib.me.us/event-calendar/coffee-cafe-10/
LOCATION:Denmark Public Library\, 121 East Main Street\, Denmark\, ME\, 04022\, United States
ATTACH;FMTTYPE=image/jpeg:https://www.denmark.lib.me.us/wp-content/uploads/2023/06/Coffee-Cafe-2.jpg
END:VEVENT
BEGIN:VEVENT
DTSTART;TZID=America/New_York:20240202T100000
DTEND;TZID=America/New_York:20240202T110000
DTSTAMP:20260423T042335
CREATED:20240117T145039Z
LAST-MODIFIED:20240118T153109Z
UID:1467-1706868000-1706871600@www.denmark.lib.me.us
SUMMARY:Create a Vision Board
DESCRIPTION:We are having a Vision Board activity on Feb 2 at 10:00 am. \nThis creative\, fun activity is to help you manifest hopes and dreams in the near future or upcoming year.\nWhat are your values\, priorities\, your pie in the sky so to speak.\nexpress it in a collage form with a small group of folks interested in the law of attraction.\nPlease pre-register so we have enough materials.\nCall 452-2200 and talk to the librarian or leave a message.
URL:https://www.denmark.lib.me.us/event-calendar/create-a-vision-board/
LOCATION:Denmark Public Library\, 121 East Main Street\, Denmark\, ME\, 04022\, United States
ORGANIZER;CN="Denmark Public Library":MAILTO:denmarkmainelibrary@gmail.com
END:VEVENT
END:VCALENDAR