BEGIN:VCALENDAR
VERSION:2.0
PRODID:-// - ECPv6.15.20//NONSGML v1.0//EN
CALSCALE:GREGORIAN
METHOD:PUBLISH
X-ORIGINAL-URL:https://www.denmark.lib.me.us
X-WR-CALDESC:Events for 
REFRESH-INTERVAL;VALUE=DURATION:PT1H
X-Robots-Tag:noindex
X-PUBLISHED-TTL:PT1H
BEGIN:VTIMEZONE
TZID:America/New_York
BEGIN:DAYLIGHT
TZOFFSETFROM:-0500
TZOFFSETTO:-0400
TZNAME:EDT
DTSTART:20240310T070000
END:DAYLIGHT
BEGIN:STANDARD
TZOFFSETFROM:-0400
TZOFFSETTO:-0500
TZNAME:EST
DTSTART:20241103T060000
END:STANDARD
BEGIN:DAYLIGHT
TZOFFSETFROM:-0500
TZOFFSETTO:-0400
TZNAME:EDT
DTSTART:20250309T070000
END:DAYLIGHT
BEGIN:STANDARD
TZOFFSETFROM:-0400
TZOFFSETTO:-0500
TZNAME:EST
DTSTART:20251102T060000
END:STANDARD
BEGIN:DAYLIGHT
TZOFFSETFROM:-0500
TZOFFSETTO:-0400
TZNAME:EDT
DTSTART:20260308T070000
END:DAYLIGHT
BEGIN:STANDARD
TZOFFSETFROM:-0400
TZOFFSETTO:-0500
TZNAME:EST
DTSTART:20261101T060000
END:STANDARD
END:VTIMEZONE
BEGIN:VEVENT
DTSTART;TZID=America/New_York:20251101T100000
DTEND;TZID=America/New_York:20251101T120000
DTSTAMP:20260423T090215
CREATED:20251024T151533Z
LAST-MODIFIED:20251024T151533Z
UID:2195-1761991200-1761998400@www.denmark.lib.me.us
SUMMARY:Day of the Dead!
DESCRIPTION:Day of the Dead talk and celebration at the library.   \nTreats will be served.
URL:https://www.denmark.lib.me.us/event-calendar/day-of-the-dead/
CATEGORIES:Special Activities
ATTACH;FMTTYPE=image/jpeg:https://www.denmark.lib.me.us/wp-content/uploads/2025/10/hero-image.fill_.size_1248x702.v1699835193-2058537951.jpg
END:VEVENT
BEGIN:VEVENT
DTSTART;TZID=America/New_York:20251112T103000
DTEND;TZID=America/New_York:20251112T120000
DTSTAMP:20260423T090215
CREATED:20251106T211139Z
LAST-MODIFIED:20251106T211144Z
UID:2205-1762943400-1762948800@www.denmark.lib.me.us
SUMMARY:Happy Cards Workshop
DESCRIPTION:Come Create Happy Cards\nAs the seasons change and uncertainty swirls all around us\, what simple things make you feel connected and happy?\nLet’s get together and have some fun crafting personalized “Happy” note cards and envelopes with paper\, scissors and glue.\nAll instruction and material provided. No special skills needed. Let’s create! \nSign up at the Library or call (207) – 452-2200\nDonation for artist requested.
URL:https://www.denmark.lib.me.us/event-calendar/happy-cards-workshop/
LOCATION:Denmark Public Library\, 121 East Main Street\, Denmark\, ME\, 04022\, United States
CATEGORIES:Create Happy Cards!
ATTACH;FMTTYPE=image/jpeg:https://www.denmark.lib.me.us/wp-content/uploads/2025/11/577008356_1273516521485389_1790566753857497082_n.jpg
END:VEVENT
END:VCALENDAR